BEGIN:VCALENDAR
VERSION:2.0
PRODID:-//Squarespace Inc/Squarespace 6//v6//EN
BEGIN:VEVENT
UID:5fe29e78065e422138fe4582@squarespace.com
DTSTAMP:20201223T021733Z
DTSTART:20201227T040000Z
DTEND:20201227T043000Z
SUMMARY:TV EVENT: CLOSE ENCOUNTERS OF THE ANIMAL KIND with Zookeeper Chad
GEO:-35.795374;150.159379
LOCATION:Netwrok 10 and WIN Network Nationally\, Australia
END:VEVENT
END:VCALENDAR
